BEGIN:VCALENDAR
VERSION:2.0
PRODID:-//Gamma Coaching - ECPv5.12.2//NONSGML v1.0//EN
CALSCALE:GREGORIAN
METHOD:PUBLISH
X-WR-CALNAME:Gamma Coaching
X-ORIGINAL-URL:https://gammacoaching.fr
X-WR-CALDESC:évènements pour Gamma Coaching
REFRESH-INTERVAL;VALUE=DURATION:PT1H
X-Robots-Tag:noindex
X-PUBLISHED-TTL:PT1H
BEGIN:VTIMEZONE
TZID:UTC
BEGIN:STANDARD
TZOFFSETFROM:+0000
TZOFFSETTO:+0000
TZNAME:UTC
DTSTART:20190101T000000
END:STANDARD
END:VTIMEZONE
BEGIN:VEVENT
DTSTART;TZID=UTC:20190805T080000
DTEND;TZID=UTC:20190805T170000
DTSTAMP:20260425T225038
CREATED:20190513T094009Z
LAST-MODIFIED:20190513T094009Z
UID:931-1564992000-1565024400@gammacoaching.fr
SUMMARY:Individual Workshop
DESCRIPTION:[vc_row][vc_column][vc_column_text]Lorem gravida nibh vel veliauctor aliquenean sollicitudin\, lorem quis bibendum auctor\, nisi elit consequat ipsutis sem nibh id elit. Duis sed odio sit amet nibh vulputate cursus a sit amet mauris. Morbi accumsan ipsum velit. Nam nec tellus a odio tincidunt auctor a ornare odio. Sed non mauris vitae erat consequat auctor eu in elit. Class aptent taciti sociosqu ad litora torquent per conubia nostra\, per inceptos himenaeos. Mauris in erat justo. Nullam ac urnamiumimus felis dapibus sit amet. Sed non neque elit. Lorem gravida nibh vel veliauctor aliquenean sollicitudin\, lorem quis auctor.[/vc_column_text][/vc_column][/vc_row]
URL:https://gammacoaching.fr/event/individual-workshop/
LOCATION:Creative Leadership\, Cambridge\, MA 02138\, USA\, United States
CATEGORIES:Leadership
ATTACH;FMTTYPE=image/jpeg:https://gammacoaching.fr/wp-content/uploads/2019/05/events-img-05.jpg
ORGANIZER;CN="Harvard%20Education":MAILTO:everlead@mikado-themes.com
END:VEVENT
BEGIN:VEVENT
DTSTART;TZID=UTC:20190809T080000
DTEND;TZID=UTC:20190809T170000
DTSTAMP:20260425T225038
CREATED:20190430T094143Z
LAST-MODIFIED:20190430T094143Z
UID:70-1565337600-1565370000@gammacoaching.fr
SUMMARY:Creative Leadership
DESCRIPTION:[vc_row][vc_column][vc_column_text]Lorem gravida nibh vel veliauctor aliquenean sollicitudin\, lorem quis bibendum auctor\, nisi elit consequat ipsutis sem nibh id elit. Duis sed odio sit amet nibh vulputate cursus a sit amet mauris. Morbi accumsan ipsum velit. Nam nec tellus a odio tincidunt auctor a ornare odio. Sed non mauris vitae erat consequat auctor eu in elit. Class aptent taciti sociosqu ad litora torquent per conubia nostra\, per inceptos himenaeos. Mauris in erat justo. Nullam ac urnamiumimus felis dapibus sit amet. Sed non neque elit. Lorem gravida nibh vel veliauctor aliquenean sollicitudin\, lorem quis auctor.[/vc_column_text][/vc_column][/vc_row]
URL:https://gammacoaching.fr/event/creative-leadership/
LOCATION:Creative Leadership\, Cambridge\, MA 02138\, USA\, United States
CATEGORIES:Leadership
ATTACH;FMTTYPE=image/jpeg:https://gammacoaching.fr/wp-content/uploads/2019/04/events-img-02.jpg
ORGANIZER;CN="Harvard%20Education":MAILTO:everlead@mikado-themes.com
END:VEVENT
BEGIN:VEVENT
DTSTART;TZID=UTC:20190809T080000
DTEND;TZID=UTC:20190809T170000
DTSTAMP:20260425T225038
CREATED:20190513T091011Z
LAST-MODIFIED:20190513T091011Z
UID:907-1565337600-1565370000@gammacoaching.fr
SUMMARY:Advanced Leadership
DESCRIPTION:[vc_row][vc_column][vc_column_text]Lorem gravida nibh vel veliauctor aliquenean sollicitudin\, lorem quis bibendum auctor\, nisi elit consequat ipsutis sem nibh id elit. Duis sed odio sit amet nibh vulputate cursus a sit amet mauris. Morbi accumsan ipsum velit. Nam nec tellus a odio tincidunt auctor a ornare odio. Sed non mauris vitae erat consequat auctor eu in elit. Class aptent taciti sociosqu ad litora torquent per conubia nostra\, per inceptos himenaeos. Mauris in erat justo. Nullam ac urnamiumimus felis dapibus sit amet. Sed non neque elit. Lorem gravida nibh vel veliauctor aliquenean sollicitudin\, lorem quis auctor.[/vc_column_text][/vc_column][/vc_row]
URL:https://gammacoaching.fr/event/advanced-leadership/
LOCATION:Creative Leadership\, Cambridge\, MA 02138\, USA\, United States
CATEGORIES:Leadership
ATTACH;FMTTYPE=image/jpeg:https://gammacoaching.fr/wp-content/uploads/2019/05/events-img-04.jpg
ORGANIZER;CN="Harvard%20Education":MAILTO:everlead@mikado-themes.com
END:VEVENT
BEGIN:VEVENT
DTSTART;TZID=UTC:20190819T080000
DTEND;TZID=UTC:20190819T170000
DTSTAMP:20260425T225038
CREATED:20190514T080442Z
LAST-MODIFIED:20190514T080442Z
UID:1138-1566201600-1566234000@gammacoaching.fr
SUMMARY:Coaching technique
DESCRIPTION:[vc_row][vc_column][vc_column_text]Lorem gravida nibh vel veliauctor aliquenean sollicitudin\, lorem quis bibendum auctor\, nisi elit consequat ipsutis sem nibh id elit. Duis sed odio sit amet nibh vulputate cursus a sit amet mauris. Morbi accumsan ipsum velit. Nam nec tellus a odio tincidunt auctor a ornare odio. Sed non mauris vitae erat consequat auctor eu in elit. Class aptent taciti sociosqu ad litora torquent per conubia nostra\, per inceptos himenaeos. Mauris in erat justo. Nullam ac urnamiumimus felis dapibus sit amet. Sed non neque elit. Lorem gravida nibh vel veliauctor aliquenean sollicitudin\, lorem quis auctor.[/vc_column_text][/vc_column][/vc_row]
URL:https://gammacoaching.fr/event/coaching-technique/
LOCATION:Businesswind\, Cambridge\, MA 02138\, USA\, United States
CATEGORIES:Business
ATTACH;FMTTYPE=image/jpeg:https://gammacoaching.fr/wp-content/uploads/2019/05/about-me-event-02.jpg
ORGANIZER;CN="Cambridge%20University":MAILTO:everlead@mikado-themes.com
END:VEVENT
BEGIN:VEVENT
DTSTART;TZID=UTC:20190823T080000
DTEND;TZID=UTC:20190823T170000
DTSTAMP:20260425T225038
CREATED:20190514T075624Z
LAST-MODIFIED:20190514T075624Z
UID:1127-1566547200-1566579600@gammacoaching.fr
SUMMARY:Next investment
DESCRIPTION:[vc_row][vc_column][vc_column_text]Lorem gravida nibh vel veliauctor aliquenean sollicitudin\, lorem quis bibendum auctor\, nisi elit consequat ipsutis sem nibh id elit. Duis sed odio sit amet nibh vulputate cursus a sit amet mauris. Morbi accumsan ipsum velit. Nam nec tellus a odio tincidunt auctor a ornare odio. Sed non mauris vitae erat consequat auctor eu in elit. Class aptent taciti sociosqu ad litora torquent per conubia nostra\, per inceptos himenaeos. Mauris in erat justo. Nullam ac urnamiumimus felis dapibus sit amet. Sed non neque elit. Lorem gravida nibh vel veliauctor aliquenean sollicitudin\, lorem quis auctor.[/vc_column_text][/vc_column][/vc_row]
URL:https://gammacoaching.fr/event/next-investment/
LOCATION:Businesswind\, Cambridge\, MA 02138\, USA\, United States
CATEGORIES:Business
ATTACH;FMTTYPE=image/jpeg:https://gammacoaching.fr/wp-content/uploads/2019/05/about-me-event-01.jpg
ORGANIZER;CN="Cambridge%20University":MAILTO:everlead@mikado-themes.com
END:VEVENT
END:VCALENDAR